BEGIN:VCALENDAR
VERSION:2.0
PRODID:-//Glacial Ridge Health System - ECPv6.15.20//NONSGML v1.0//EN
CALSCALE:GREGORIAN
METHOD:PUBLISH
X-WR-CALNAME:Glacial Ridge Health System
X-ORIGINAL-URL:https://glacialridge.org
X-WR-CALDESC:Events for Glacial Ridge Health System
REFRESH-INTERVAL;VALUE=DURATION:PT1H
X-Robots-Tag:noindex
X-PUBLISHED-TTL:PT1H
BEGIN:VTIMEZONE
TZID:America/Chicago
BEGIN:DAYLIGHT
TZOFFSETFROM:-0600
TZOFFSETTO:-0500
TZNAME:CDT
DTSTART:20240310T080000
END:DAYLIGHT
BEGIN:STANDARD
TZOFFSETFROM:-0500
TZOFFSETTO:-0600
TZNAME:CST
DTSTART:20241103T070000
END:STANDARD
BEGIN:DAYLIGHT
TZOFFSETFROM:-0600
TZOFFSETTO:-0500
TZNAME:CDT
DTSTART:20250309T080000
END:DAYLIGHT
BEGIN:STANDARD
TZOFFSETFROM:-0500
TZOFFSETTO:-0600
TZNAME:CST
DTSTART:20251102T070000
END:STANDARD
BEGIN:DAYLIGHT
TZOFFSETFROM:-0600
TZOFFSETTO:-0500
TZNAME:CDT
DTSTART:20260308T080000
END:DAYLIGHT
BEGIN:STANDARD
TZOFFSETFROM:-0500
TZOFFSETTO:-0600
TZNAME:CST
DTSTART:20261101T070000
END:STANDARD
END:VTIMEZONE
BEGIN:VEVENT
DTSTART;TZID=America/Chicago:20250416T170000
DTEND;TZID=America/Chicago:20250416T200000
DTSTAMP:20260425T094452
CREATED:20250320T205443Z
LAST-MODIFIED:20250715T214410Z
UID:31439-1744822800-1744833600@glacialridge.org
SUMMARY:Dementia Essentials - Evening
DESCRIPTION:Dementia requires a different way of planning\, thinking\, and feeling. This session is the first step in navigating the dementia journey. Krisie Barron\, LSW\, will answer the questions you don’t know how to ask. The session is for those who are newly diagnosed\, for caregivers at any stage in the journey\, and health professionals who want more information about guiding people to their next steps. \n\nUnderstand what’s happening in the dementia brain.\nLearn new normals and expectations.\nPut tools in your Caregiver Tool Box.\n\nThe session is offered in the evening at the Glenwood Lakes Area Chamber of Commerce and Welcome Center meeting room\, just north of Subway on First Street NW. Click here to download the flyer with other 2025 dates and options to join. \nThere is no cost to attend. Registration is preferred\, but walk-ins are welcome. Beverages and a light snack will be provided. Call Joanna Curry at 320.334.5539 to register. \n 
URL:https://glacialridge.org/event/dementia-essentials-evening/
LOCATION:Glenwood Chamber and Welcome Center\, 7 First Street NW\, Glenwood\, 56334\, United States
CATEGORIES:Class
ORGANIZER;CN="Glacial Ridge Health System":MAILTO:askus@glacialridge.org
END:VEVENT
END:VCALENDAR